Package: flagme Version: 1.63.0 Command: chmod a+r flagme -R && E:\biocbuild\bbs-3.21-bioc\R\bin\R.exe CMD build --keep-empty-dirs --no-resave-data flagme StartedAt: 2025-02-09 18:43:26 -0500 (Sun, 09 Feb 2025) EndedAt: 2025-02-09 18:48:59 -0500 (Sun, 09 Feb 2025) EllapsedTime: 332.4 seconds RetCode: 0 Status: OK PackageFile: flagme_1.63.0.tar.gz PackageFileSize: 427.4 KiB