Package: flagme Version: 1.63.0 Command: E:\biocbuild\bbs-3.21-bioc\R\bin\R.exe CMD check --no-multiarch --install=check:flagme.install-out.txt --library=E:\biocbuild\bbs-3.21-bioc\R\library --no-vignettes --timings flagme_1.63.0.tar.gz StartedAt: 2025-02-10 01:07:18 -0500 (Mon, 10 Feb 2025) EndedAt: 2025-02-10 01:29:53 -0500 (Mon, 10 Feb 2025) EllapsedTime: 1354.6 seconds RetCode: 0 Status: WARNINGS CheckDir: flagme.Rcheck Warnings: 2