Package: flowAI Version: 1.37.0 Command: /Library/Frameworks/R.framework/Resources/bin/R CMD INSTALL flowAI StartedAt: 2025-02-09 15:14:56 -0500 (Sun, 09 Feb 2025) EndedAt: 2025-02-09 15:15:01 -0500 (Sun, 09 Feb 2025) EllapsedTime: 4.8 seconds RetCode: 0 Status: OK