Package: flowAI Version: 1.37.0 Command: /home/biocbuild/bbs-3.21-bioc/R/bin/R CMD INSTALL flowAI StartedAt: 2025-02-09 15:13:43 -0500 (Sun, 09 Feb 2025) EndedAt: 2025-02-09 15:13:53 -0500 (Sun, 09 Feb 2025) EllapsedTime: 9.8 seconds RetCode: 0 Status: OK