Package: flowAI Version: 1.37.0 Command: chmod a+r flowAI -R && E:\biocbuild\bbs-3.21-bioc\R\bin\R.exe CMD build --keep-empty-dirs --no-resave-data flowAI StartedAt: 2025-02-09 18:43:28 -0500 (Sun, 09 Feb 2025) EndedAt: 2025-02-09 18:43:52 -0500 (Sun, 09 Feb 2025) EllapsedTime: 23.8 seconds RetCode: 0 Status: OK PackageFile: flowAI_1.37.0.tar.gz PackageFileSize: 3.748 MiB