Package: flowAI Version: 1.37.0 Command: E:\biocbuild\bbs-3.21-bioc\R\bin\R.exe CMD check --no-multiarch --install=check:flowAI.install-out.txt --library=E:\biocbuild\bbs-3.21-bioc\R\library --no-vignettes --timings flowAI_1.37.0.tar.gz StartedAt: 2025-02-13 01:18:22 -0500 (Thu, 13 Feb 2025) EndedAt: 2025-02-13 01:19:53 -0500 (Thu, 13 Feb 2025) EllapsedTime: 90.9 seconds RetCode: 0 Status: OK CheckDir: flowAI.Rcheck Warnings: 0