Package: flowAI Version: 1.37.0 Command: E:\biocbuild\bbs-3.21-bioc\R\bin\R.exe CMD INSTALL flowAI StartedAt: 2025-02-12 15:37:31 -0500 (Wed, 12 Feb 2025) EndedAt: 2025-02-12 15:37:46 -0500 (Wed, 12 Feb 2025) EllapsedTime: 15.1 seconds RetCode: 0 Status: OK