Package: flowBeads Version: 1.45.0 Command: /Library/Frameworks/R.framework/Resources/bin/R CMD INSTALL flowBeads StartedAt: 2025-02-04 15:05:38 -0500 (Tue, 04 Feb 2025) EndedAt: 2025-02-04 15:05:43 -0500 (Tue, 04 Feb 2025) EllapsedTime: 5.8 seconds RetCode: 0 Status: OK