Package: flowBeads Version: 1.45.0 Command: /home/biocbuild/R/R/bin/R CMD build --keep-empty-dirs --no-resave-data flowBeads StartedAt: 2025-01-28 22:54:39 -0000 (Tue, 28 Jan 2025) EndedAt: 2025-01-28 22:54:59 -0000 (Tue, 28 Jan 2025) EllapsedTime: 20.0 seconds RetCode: 0 Status: OK PackageFile: flowBeads_1.45.0.tar.gz PackageFileSize: 972.4 KiB