Package: flowBeads Version: 1.45.0 Command: /Library/Frameworks/R.framework/Resources/bin/R CMD build --keep-empty-dirs --no-resave-data flowBeads StartedAt: 2025-02-12 16:43:56 -0500 (Wed, 12 Feb 2025) EndedAt: 2025-02-12 16:44:17 -0500 (Wed, 12 Feb 2025) EllapsedTime: 21.8 seconds RetCode: 0 Status: OK PackageFile: flowBeads_1.45.0.tar.gz PackageFileSize: 977.2 KiB