Package: flowBeads Version: 1.45.0 Command: /Library/Frameworks/R.framework/Resources/bin/R CMD check --install=check:flowBeads.install-out.txt --library=/Library/Frameworks/R.framework/Resources/library --no-vignettes --timings flowBeads_1.45.0.tar.gz StartedAt: 2025-02-12 20:32:40 -0500 (Wed, 12 Feb 2025) EndedAt: 2025-02-12 20:33:54 -0500 (Wed, 12 Feb 2025) EllapsedTime: 73.9 seconds RetCode: 0 Status: WARNINGS CheckDir: flowBeads.Rcheck Warnings: 2