Package: flowBeads Version: 1.45.0 Command: /Library/Frameworks/R.framework/Resources/bin/R CMD INSTALL flowBeads StartedAt: 2025-02-09 15:12:56 -0500 (Sun, 09 Feb 2025) EndedAt: 2025-02-09 15:13:10 -0500 (Sun, 09 Feb 2025) EllapsedTime: 14.8 seconds RetCode: 0 Status: OK