Package: flowBeads Version: 1.45.0 Command: chmod a+r flowBeads -R && E:\biocbuild\bbs-3.21-bioc\R\bin\R.exe CMD build --keep-empty-dirs --no-resave-data flowBeads StartedAt: 2025-02-04 18:45:33 -0500 (Tue, 04 Feb 2025) EndedAt: 2025-02-04 18:46:07 -0500 (Tue, 04 Feb 2025) EllapsedTime: 34.5 seconds RetCode: 0 Status: OK PackageFile: flowBeads_1.45.0.tar.gz PackageFileSize: 834.6 KiB