Package: flowBeads Version: 1.45.0 Command: E:\biocbuild\bbs-3.21-bioc\R\bin\R.exe CMD INSTALL flowBeads StartedAt: 2025-02-04 16:18:11 -0500 (Tue, 04 Feb 2025) EndedAt: 2025-02-04 16:18:38 -0500 (Tue, 04 Feb 2025) EllapsedTime: 27.8 seconds RetCode: 0 Status: OK