Package: flowCHIC Version: 1.41.0 Command: /home/biocbuild/bbs-3.21-bioc/R/bin/R CMD build --keep-empty-dirs --no-resave-data flowCHIC StartedAt: 2025-02-09 17:15:49 -0500 (Sun, 09 Feb 2025) EndedAt: 2025-02-09 17:16:22 -0500 (Sun, 09 Feb 2025) EllapsedTime: 33.0 seconds RetCode: 0 Status: OK PackageFile: flowCHIC_1.41.0.tar.gz PackageFileSize: 3.24 MiB