Package: flowCHIC Version: 1.41.0 Command: /home/biocbuild/bbs-3.21-bioc/R/bin/R CMD INSTALL flowCHIC StartedAt: 2025-02-09 15:13:32 -0500 (Sun, 09 Feb 2025) EndedAt: 2025-02-09 15:13:46 -0500 (Sun, 09 Feb 2025) EllapsedTime: 13.5 seconds RetCode: 0 Status: OK