Package: flowCHIC Version: 1.41.0 Command: chmod a+r flowCHIC -R && E:\biocbuild\bbs-3.21-bioc\R\bin\R.exe CMD build --keep-empty-dirs --no-resave-data flowCHIC StartedAt: 2025-02-09 18:43:53 -0500 (Sun, 09 Feb 2025) EndedAt: 2025-02-09 18:44:43 -0500 (Sun, 09 Feb 2025) EllapsedTime: 49.9 seconds RetCode: 0 Status: OK PackageFile: flowCHIC_1.41.0.tar.gz PackageFileSize: 3.068 MiB