Package: flowCHIC Version: 1.41.0 Command: E:\biocbuild\bbs-3.21-bioc\R\bin\R.exe CMD INSTALL flowCHIC StartedAt: 2025-02-12 15:36:33 -0500 (Wed, 12 Feb 2025) EndedAt: 2025-02-12 15:36:53 -0500 (Wed, 12 Feb 2025) EllapsedTime: 20.1 seconds RetCode: 0 Status: OK