Package: flowCore Version: 2.19.0 Command: /Library/Frameworks/R.framework/Resources/bin/R CMD build --keep-empty-dirs --no-resave-data flowCore StartedAt: 2025-02-12 16:44:17 -0500 (Wed, 12 Feb 2025) EndedAt: 2025-02-12 16:45:50 -0500 (Wed, 12 Feb 2025) EllapsedTime: 92.9 seconds RetCode: 0 Status: OK PackageFile: flowCore_2.19.0.tar.gz PackageFileSize: 7.457 MiB