Package: flowCore Version: 2.19.0 Command: /Library/Frameworks/R.framework/Resources/bin/R CMD check --install=check:flowCore.install-out.txt --library=/Library/Frameworks/R.framework/Resources/library --no-vignettes --timings flowCore_2.19.0.tar.gz StartedAt: 2025-02-12 20:33:15 -0500 (Wed, 12 Feb 2025) EndedAt: 2025-02-12 20:36:17 -0500 (Wed, 12 Feb 2025) EllapsedTime: 182.3 seconds RetCode: 0 Status: WARNINGS CheckDir: flowCore.Rcheck Warnings: 3