Package: flowCore Version: 2.19.0 Command: /Library/Frameworks/R.framework/Resources/bin/R CMD INSTALL flowCore StartedAt: 2025-02-09 15:11:46 -0500 (Sun, 09 Feb 2025) EndedAt: 2025-02-09 15:12:42 -0500 (Sun, 09 Feb 2025) EllapsedTime: 55.8 seconds RetCode: 0 Status: OK