Package: flowCut Version: 1.17.0 Command: rm -rf flowCut.buildbin-libdir && mkdir flowCut.buildbin-libdir && /Users/biocbuild/BBS/utils/build-universal.sh flowCut_1.17.0.tar.gz /Library/Frameworks/R.framework/Resources/bin/R flowCut.buildbin-libdir StartedAt: 2025-02-10 00:53:42 -0500 (Mon, 10 Feb 2025) EndedAt: 2025-02-10 00:53:59 -0500 (Mon, 10 Feb 2025) EllapsedTime: 16.3 seconds RetCode: 0 Status: OK PackageFile: flowCut_1.17.0.tgz PackageFileSize: 8.061 MiB