Package: flowCut Version: 1.17.0 Command: /Library/Frameworks/R.framework/Resources/bin/R CMD check --install=check:flowCut.install-out.txt --library=/Library/Frameworks/R.framework/Resources/library --no-vignettes --timings flowCut_1.17.0.tar.gz StartedAt: 2025-02-09 20:45:13 -0500 (Sun, 09 Feb 2025) EndedAt: 2025-02-09 20:46:56 -0500 (Sun, 09 Feb 2025) EllapsedTime: 102.9 seconds RetCode: 0 Status: OK CheckDir: flowCut.Rcheck Warnings: 0