Package: flowFP Version: 1.65.0 Command: /home/biocbuild/R/R/bin/R CMD INSTALL flowFP StartedAt: 2025-01-29 19:42:59 -0000 (Wed, 29 Jan 2025) EndedAt: 2025-01-29 19:43:17 -0000 (Wed, 29 Jan 2025) EllapsedTime: 17.5 seconds RetCode: 0 Status: OK