Package: flowFP Version: 1.65.0 Command: /Library/Frameworks/R.framework/Resources/bin/R CMD build --keep-empty-dirs --no-resave-data flowFP StartedAt: 2025-02-09 16:46:48 -0500 (Sun, 09 Feb 2025) EndedAt: 2025-02-09 16:47:26 -0500 (Sun, 09 Feb 2025) EllapsedTime: 37.7 seconds RetCode: 0 Status: OK PackageFile: flowFP_1.65.0.tar.gz PackageFileSize: 5.131 MiB