Package: flowFP Version: 1.65.0 Command: /home/biocbuild/bbs-3.21-bioc/R/bin/R CMD build --keep-empty-dirs --no-resave-data flowFP StartedAt: 2025-02-09 17:16:23 -0500 (Sun, 09 Feb 2025) EndedAt: 2025-02-09 17:16:48 -0500 (Sun, 09 Feb 2025) EllapsedTime: 25.0 seconds RetCode: 0 Status: OK PackageFile: flowFP_1.65.0.tar.gz PackageFileSize: 5.129 MiB