Package: flowFP Version: 1.65.0 Command: /home/biocbuild/bbs-3.21-bioc/R/bin/R CMD INSTALL flowFP StartedAt: 2025-02-09 15:13:53 -0500 (Sun, 09 Feb 2025) EndedAt: 2025-02-09 15:14:05 -0500 (Sun, 09 Feb 2025) EllapsedTime: 11.9 seconds RetCode: 0 Status: OK