Package: flowFP Version: 1.65.0 Command: E:\biocbuild\bbs-3.21-bioc\R\bin\R.exe CMD check --no-multiarch --install=check:flowFP.install-out.txt --library=E:\biocbuild\bbs-3.21-bioc\R\library --no-vignettes --timings flowFP_1.65.0.tar.gz StartedAt: 2025-02-10 01:09:44 -0500 (Mon, 10 Feb 2025) EndedAt: 2025-02-10 01:11:38 -0500 (Mon, 10 Feb 2025) EllapsedTime: 114.4 seconds RetCode: 0 Status: OK CheckDir: flowFP.Rcheck Warnings: 0