Package: flowFP Version: 1.65.0 Command: E:\biocbuild\bbs-3.21-bioc\R\bin\R.exe CMD INSTALL flowFP StartedAt: 2025-02-09 15:46:47 -0500 (Sun, 09 Feb 2025) EndedAt: 2025-02-09 15:47:35 -0500 (Sun, 09 Feb 2025) EllapsedTime: 47.4 seconds RetCode: 0 Status: OK