Package: flowGate Version: 1.7.0 Command: /Library/Frameworks/R.framework/Resources/bin/R CMD INSTALL flowGate StartedAt: 2025-02-03 15:50:12 -0500 (Mon, 03 Feb 2025) EndedAt: 2025-02-03 15:50:17 -0500 (Mon, 03 Feb 2025) EllapsedTime: 4.9 seconds RetCode: 0 Status: OK