Package: flowGate Version: 1.7.0 Command: /home/biocbuild/R/R/bin/R CMD check --install=check:flowGate.install-out.txt --library=/home/biocbuild/R/R/site-library --no-vignettes --timings flowGate_1.7.0.tar.gz StartedAt: 2025-01-28 10:40:19 -0000 (Tue, 28 Jan 2025) EndedAt: 2025-01-28 10:42:06 -0000 (Tue, 28 Jan 2025) EllapsedTime: 107.1 seconds RetCode: 0 Status: OK CheckDir: flowGate.Rcheck Warnings: 0