Package: flowGate Version: 1.7.0 Command: /home/biocbuild/R/R/bin/R CMD INSTALL flowGate StartedAt: 2025-01-29 20:05:49 -0000 (Wed, 29 Jan 2025) EndedAt: 2025-01-29 20:06:07 -0000 (Wed, 29 Jan 2025) EllapsedTime: 18.7 seconds RetCode: 0 Status: OK