Package: flowGate Version: 1.7.0 Command: rm -rf flowGate.buildbin-libdir && mkdir flowGate.buildbin-libdir && /Users/biocbuild/BBS/utils/build-universal.sh flowGate_1.7.0.tar.gz /Library/Frameworks/R.framework/Resources/bin/R flowGate.buildbin-libdir StartedAt: 2025-02-04 00:34:31 -0500 (Tue, 04 Feb 2025) EndedAt: 2025-02-04 00:34:51 -0500 (Tue, 04 Feb 2025) EllapsedTime: 20.7 seconds RetCode: 0 Status: OK PackageFile: flowGate_1.7.0.tgz PackageFileSize: 1.68 MiB