Package: flowGate Version: 1.7.0 Command: /Library/Frameworks/R.framework/Resources/bin/R CMD build --keep-empty-dirs --no-resave-data flowGate StartedAt: 2025-02-03 16:48:01 -0500 (Mon, 03 Feb 2025) EndedAt: 2025-02-03 16:48:34 -0500 (Mon, 03 Feb 2025) EllapsedTime: 33.2 seconds RetCode: 0 Status: OK PackageFile: flowGate_1.7.0.tar.gz PackageFileSize: 2.403 MiB