Package: flowGate Version: 1.7.0 Command: /Library/Frameworks/R.framework/Resources/bin/R CMD check --install=check:flowGate.install-out.txt --library=/Library/Frameworks/R.framework/Resources/library --no-vignettes --timings flowGate_1.7.0.tar.gz StartedAt: 2025-02-09 20:45:29 -0500 (Sun, 09 Feb 2025) EndedAt: 2025-02-09 20:47:14 -0500 (Sun, 09 Feb 2025) EllapsedTime: 105.1 seconds RetCode: 0 Status: OK CheckDir: flowGate.Rcheck Warnings: 0