Package: flowGate Version: 1.7.0 Command: /Library/Frameworks/R.framework/Resources/bin/R CMD INSTALL flowGate StartedAt: 2025-02-03 15:29:29 -0500 (Mon, 03 Feb 2025) EndedAt: 2025-02-03 15:29:49 -0500 (Mon, 03 Feb 2025) EllapsedTime: 19.8 seconds RetCode: 0 Status: OK