Package: flowGate Version: 1.7.0 Command: /home/biocbuild/bbs-3.21-bioc/R/bin/R CMD check --install=check:flowGate.install-out.txt --library=/home/biocbuild/bbs-3.21-bioc/R/site-library --timings flowGate_1.7.0.tar.gz StartedAt: 2025-02-09 22:22:21 -0500 (Sun, 09 Feb 2025) EndedAt: 2025-02-09 22:23:56 -0500 (Sun, 09 Feb 2025) EllapsedTime: 95.2 seconds RetCode: 0 Status: OK CheckDir: flowGate.Rcheck Warnings: 0