Package: flowGate Version: 1.7.0 Command: chmod a+r flowGate -R && E:\biocbuild\bbs-3.21-bioc\R\bin\R.exe CMD build --keep-empty-dirs --no-resave-data flowGate StartedAt: 2025-02-09 18:44:42 -0500 (Sun, 09 Feb 2025) EndedAt: 2025-02-09 18:45:28 -0500 (Sun, 09 Feb 2025) EllapsedTime: 46.2 seconds RetCode: 0 Status: OK PackageFile: flowGate_1.7.0.tar.gz PackageFileSize: 1.897 MiB