Package: flowGate Version: 1.7.0 Command: E:\biocbuild\bbs-3.21-bioc\R\bin\R.exe CMD INSTALL flowGate StartedAt: 2025-02-09 15:58:40 -0500 (Sun, 09 Feb 2025) EndedAt: 2025-02-09 15:59:02 -0500 (Sun, 09 Feb 2025) EllapsedTime: 22.2 seconds RetCode: 0 Status: OK