Package: flowGraph Version: 1.15.0 Command: /home/biocbuild/R/R/bin/R CMD build --keep-empty-dirs --no-resave-data flowGraph StartedAt: 2025-01-28 22:56:16 -0000 (Tue, 28 Jan 2025) EndedAt: 2025-01-28 22:57:11 -0000 (Tue, 28 Jan 2025) EllapsedTime: 55.0 seconds RetCode: 0 Status: OK PackageFile: flowGraph_1.15.0.tar.gz PackageFileSize: 1.444 MiB