Package: flowGraph Version: 1.15.0 Command: /home/biocbuild/R/R/bin/R CMD INSTALL flowGraph StartedAt: 2025-01-29 20:08:56 -0000 (Wed, 29 Jan 2025) EndedAt: 2025-01-29 20:09:15 -0000 (Wed, 29 Jan 2025) EllapsedTime: 19.1 seconds RetCode: 0 Status: OK