Package: flowGraph Version: 1.15.0 Command: /Library/Frameworks/R.framework/Resources/bin/R CMD build --keep-empty-dirs --no-resave-data flowGraph StartedAt: 2025-02-09 16:46:55 -0500 (Sun, 09 Feb 2025) EndedAt: 2025-02-09 16:47:46 -0500 (Sun, 09 Feb 2025) EllapsedTime: 51.5 seconds RetCode: 0 Status: OK PackageFile: flowGraph_1.15.0.tar.gz PackageFileSize: 2.075 MiB