Package: flowGraph Version: 1.15.0 Command: /home/biocbuild/bbs-3.21-bioc/R/bin/R CMD build --keep-empty-dirs --no-resave-data flowGraph StartedAt: 2025-02-04 17:14:36 -0500 (Tue, 04 Feb 2025) EndedAt: 2025-02-04 17:15:14 -0500 (Tue, 04 Feb 2025) EllapsedTime: 38.1 seconds RetCode: 0 Status: OK PackageFile: flowGraph_1.15.0.tar.gz PackageFileSize: 2.007 MiB