Package: flowGraph Version: 1.15.0 Command: rm -rf flowGraph.buildbin-libdir && mkdir flowGraph.buildbin-libdir && E:\biocbuild\bbs-3.21-bioc\R\bin\R.exe CMD INSTALL --build --library=flowGraph.buildbin-libdir flowGraph_1.15.0.tar.gz StartedAt: 2025-02-04 07:59:31 -0500 (Tue, 04 Feb 2025) EndedAt: 2025-02-04 08:00:27 -0500 (Tue, 04 Feb 2025) EllapsedTime: 56.2 seconds RetCode: 0 Status: OK PackageFile: flowGraph_1.15.0.zip PackageFileSize: 1.604 MiB