Package: flowGraph Version: 1.15.0 Command: chmod a+r flowGraph -R && E:\biocbuild\bbs-3.21-bioc\R\bin\R.exe CMD build --keep-empty-dirs --no-resave-data flowGraph StartedAt: 2025-02-03 18:56:46 -0500 (Mon, 03 Feb 2025) EndedAt: 2025-02-03 18:58:00 -0500 (Mon, 03 Feb 2025) EllapsedTime: 73.0 seconds RetCode: 0 Status: OK PackageFile: flowGraph_1.15.0.tar.gz PackageFileSize: 1.225 MiB