Package: flowGraph Version: 1.15.0 Command: E:\biocbuild\bbs-3.21-bioc\R\bin\R.exe CMD check --no-multiarch --install=check:flowGraph.install-out.txt --library=E:\biocbuild\bbs-3.21-bioc\R\library --no-vignettes --timings flowGraph_1.15.0.tar.gz StartedAt: 2025-02-10 01:09:53 -0500 (Mon, 10 Feb 2025) EndedAt: 2025-02-10 01:14:44 -0500 (Mon, 10 Feb 2025) EllapsedTime: 291.1 seconds RetCode: 0 Status: OK CheckDir: flowGraph.Rcheck Warnings: 0