Package: flowGraph Version: 1.15.0 Command: E:\biocbuild\bbs-3.21-bioc\R\bin\R.exe CMD INSTALL flowGraph StartedAt: 2025-02-03 16:00:36 -0500 (Mon, 03 Feb 2025) EndedAt: 2025-02-03 16:01:35 -0500 (Mon, 03 Feb 2025) EllapsedTime: 58.6 seconds RetCode: 0 Status: OK