Package: flowMerge Version: 2.55.0 Command: /Library/Frameworks/R.framework/Resources/bin/R CMD INSTALL flowMerge StartedAt: 2025-02-03 15:39:49 -0500 (Mon, 03 Feb 2025) EndedAt: 2025-02-03 15:39:59 -0500 (Mon, 03 Feb 2025) EllapsedTime: 9.7 seconds RetCode: 0 Status: OK