Package: flowMerge Version: 2.55.0 Command: rm -rf flowMerge.buildbin-libdir && mkdir flowMerge.buildbin-libdir && /Users/biocbuild/BBS/utils/build-universal.sh flowMerge_2.55.0.tar.gz /Library/Frameworks/R.framework/Resources/bin/R flowMerge.buildbin-libdir StartedAt: 2025-02-10 00:53:52 -0500 (Mon, 10 Feb 2025) EndedAt: 2025-02-10 00:54:29 -0500 (Mon, 10 Feb 2025) EllapsedTime: 37.3 seconds RetCode: 0 Status: OK PackageFile: flowMerge_2.55.0.tgz PackageFileSize: 1.054 MiB