Package: flowMerge Version: 2.55.0 Command: /Library/Frameworks/R.framework/Resources/bin/R CMD build --keep-empty-dirs --no-resave-data flowMerge StartedAt: 2025-02-09 16:46:59 -0500 (Sun, 09 Feb 2025) EndedAt: 2025-02-09 16:48:01 -0500 (Sun, 09 Feb 2025) EllapsedTime: 61.8 seconds RetCode: 0 Status: OK PackageFile: flowMerge_2.55.0.tar.gz PackageFileSize: 630.8 KiB